BEGIN:VCALENDAR
VERSION:2.0
PRODID:-//Overeaters Anonymous® for New York City - ECPv6.15.20//NONSGML v1.0//EN
CALSCALE:GREGORIAN
METHOD:PUBLISH
X-WR-CALNAME:Overeaters Anonymous® for New York City
X-ORIGINAL-URL:https://oanyc.org
X-WR-CALDESC:Events for Overeaters Anonymous® for New York City
REFRESH-INTERVAL;VALUE=DURATION:PT1H
X-Robots-Tag:noindex
X-PUBLISHED-TTL:PT1H
BEGIN:VTIMEZONE
TZID:America/New_York
BEGIN:DAYLIGHT
TZOFFSETFROM:-0500
TZOFFSETTO:-0400
TZNAME:EDT
DTSTART:20250309T070000
END:DAYLIGHT
BEGIN:STANDARD
TZOFFSETFROM:-0400
TZOFFSETTO:-0500
TZNAME:EST
DTSTART:20251102T060000
END:STANDARD
BEGIN:DAYLIGHT
TZOFFSETFROM:-0500
TZOFFSETTO:-0400
TZNAME:EDT
DTSTART:20260308T070000
END:DAYLIGHT
BEGIN:STANDARD
TZOFFSETFROM:-0400
TZOFFSETTO:-0500
TZNAME:EST
DTSTART:20261101T060000
END:STANDARD
BEGIN:DAYLIGHT
TZOFFSETFROM:-0500
TZOFFSETTO:-0400
TZNAME:EDT
DTSTART:20270314T070000
END:DAYLIGHT
BEGIN:STANDARD
TZOFFSETFROM:-0400
TZOFFSETTO:-0500
TZNAME:EST
DTSTART:20271107T060000
END:STANDARD
END:VTIMEZONE
BEGIN:VEVENT
DTSTART;VALUE=DATE:20261016
DTEND;VALUE=DATE:20261020
DTSTAMP:20260422T084407
CREATED:20260223T232456Z
LAST-MODIFIED:20260223T232458Z
UID:8995-1792112400-1792371599@oanyc.org
SUMMARY:OA Region 6 Convention
DESCRIPTION:For 3 weeks only! (Feb 13 – Mar 6) \nRegister for the 2026 Region 6 Convention \nAt the early bird price of $45 plus Eventbrite fees \nPrice increases to $70 on March 7th \nHilton Double Tree in Stamford\, CT \nOctober 16-18\, 2026 \nGo to oaregion6.org for the registration link
URL:https://oanyc.org/event/oa-region-6-convention/
LOCATION:Hilton Double Tree in Stamford\, 1 First Stamford Pl\, Stamford\, CT\, 06902\, United States
ATTACH;FMTTYPE=image/jpeg:https://www.oanyc.org/wp-content/uploads/2026/02/OA-Region-6-Beyond-Our-Wildest-Dreams.jpg
END:VEVENT
END:VCALENDAR